BEGIN:VCALENDAR
VERSION:2.0
PRODID:-//Narrenzunft Sunthausen e.V. - ECPv6.2.6//NONSGML v1.0//EN
CALSCALE:GREGORIAN
METHOD:PUBLISH
X-ORIGINAL-URL:http://narrenzunft.sunthausen.com
X-WR-CALDESC:Veranstaltungen für Narrenzunft Sunthausen e.V.
REFRESH-INTERVAL;VALUE=DURATION:PT1H
X-Robots-Tag:noindex
X-PUBLISHED-TTL:PT1H
BEGIN:VTIMEZONE
TZID:UTC
BEGIN:STANDARD
TZOFFSETFROM:+0000
TZOFFSETTO:+0000
TZNAME:UTC
DTSTART:20250101T000000
END:STANDARD
END:VTIMEZONE
BEGIN:VEVENT
DTSTART;VALUE=DATE:20250228
DTEND;VALUE=DATE:20250301
DTSTAMP:20260425T123205
CREATED:20240925T193037Z
LAST-MODIFIED:20240925T193037Z
UID:279-1740700800-1740787199@narrenzunft.sunthausen.com
SUMMARY:Zunftball Narrenzunft Sunthausen
DESCRIPTION:
URL:http://narrenzunft.sunthausen.com/event/zunftball-narrenzunft-sunthausen-2/
END:VEVENT
END:VCALENDAR